BEGIN:VCALENDAR
VERSION:2.0
PRODID:-//ChamberMaster//Event Calendar 2.0//EN
METHOD:PUBLISH
X-PUBLISHED-TTL:P3D
REFRESH-INTERVAL:P3D
CALSCALE:GREGORIAN
BEGIN:VEVENT
DTSTART:20280615T160000Z
DTEND:20280615T180000Z
X-MICROSOFT-CDO-ALLDAYEVENT:FALSE
SUMMARY:2nd Quarter Members Luncheon Meeting
DESCRIPTION:The BVI Chamber of Commerce invites you to our Quarterly Members Luncheon Meeting an excellent opportunity to connect\, collaborate\, and stay informed about the latest updates impacting the business community.\n\n\n\nJoin us as we:\n\n	Provide updates on Chamber activities and initiatives.\n	Share valuable insights on upcoming opportunities for businesses.\n	Engage in discussions on key challenges and solutions within the business community.\n	Hear from a special guest speaker.\n\nThis luncheon is an ideal platform to network with fellow members and contribute to shaping the future of business in the Virgin Islands.\n\n\n\nRSVP Details:\n\nKindly confirm your attendance by clicking on the registion button provided.\n\n  Email: Info@bvichamber.org\n\n  Phone: 284-345-3513\n\n\n\nWe look forward to welcoming you to this essential gathering of business leaders and professionals.
X-ALT-DESC;FMTTYPE=text/html:The BVI Chamber of Commerce invites you to our <strong>Quarterly Members Luncheon Meeting</strong>&mdash\;an excellent opportunity to connect\, collaborate\, and stay informed about the latest updates impacting the business community.<br />\n<br />\nJoin us as we:\n<ul>\n	<li>Provide updates on Chamber activities and initiatives.</li>\n	<li>Share valuable insights on upcoming opportunities for businesses.</li>\n	<li>Engage in discussions on key challenges and solutions within the business community.</li>\n	<li>Hear from a special guest speaker.</li>\n</ul>\nThis luncheon is an ideal platform to network with fellow members and contribute to shaping the future of business in the Virgin Islands.<br />\n<br />\nRSVP Details:<br />\nKindly confirm your attendance by clicking on the registion button provided.<br />\n&#128231\; Email: Info@bvichamber.org<br />\n&#128222\; Phone: 284-345-3513<br />\n<br />\nWe look forward to welcoming you to this essential gathering of business leaders and professionals.<br />\n<br />\n&nbsp\;
LOCATION:
UID:e.3458.2926
SEQUENCE:3
DTSTAMP:20260425T153013Z
URL:https://business.bvichamber.org/events/details/2nd-quater-members-luncheon-meeting-06-15-2028-2926
END:VEVENT

END:VCALENDAR
