BEGIN:VCALENDAR
VERSION:2.0
PRODID:-//ChamberMaster//Event Calendar 2.0//EN
METHOD:PUBLISH
X-PUBLISHED-TTL:P3D
REFRESH-INTERVAL:P3D
CALSCALE:GREGORIAN
BEGIN:VEVENT
DTSTART:20280217T160000Z
DTEND:20280217T180000Z
X-MICROSOFT-CDO-ALLDAYEVENT:FALSE
SUMMARY:BVI Chamber of Commerce Annual General Meeting
DESCRIPTION:Join us for the BVI Chamber of Commerce Annual General Meeting\, where members and stakeholders come together to:\n\n\n	Review the Year: Reflect on our achievements and milestones in 2024.\n	Shape the Future: Discuss priorities and initiatives for 2025 and beyond.\n	Elect Leadership: Participate in the election of the new Board of Directors.\n	Engage in Networking: Connect with fellow business leaders and professionals.\n\n\nYour voice matters! Let's continue building a thriving business community together.\n\nRSVP Details:\nKindly confirm your attendance by clicking on the registion button provided.\n\n  Email: Info@bvichamber.org\n\n  Phone: 284-345-3513\n\n\n\nWe look forward to welcoming you to this essential gathering of business leaders and professionals.
X-ALT-DESC;FMTTYPE=text/html:<p>Join us for the BVI Chamber of Commerce Annual General Meeting\, where members and stakeholders come together to:</p>\n\n<ul>\n	<li><strong>Review the Year:</strong> Reflect on our achievements and milestones in 2024.</li>\n	<li><strong>Shape the Future:</strong> Discuss priorities and initiatives for 2025 and beyond.</li>\n	<li><strong>Elect Leadership:</strong> Participate in the election of the new Board of Directors.</li>\n	<li><strong>Engage in Networking:</strong> Connect with fellow business leaders and professionals.</li>\n</ul>\n\n<p><strong>Your voice matters!</strong> Let&rsquo\;s continue building a thriving business community together.</p>\n\n<p><strong>RSVP Details:</strong></p>\nKindly confirm your attendance by clicking on the registion button provided.<br />\n&#128231\; Email: Info@bvichamber.org<br />\n&#128222\; Phone: 284-345-3513<br />\n<br />\nWe look forward to welcoming you to this essential gathering of business leaders and professionals.<br />\n<br />\n&nbsp\;
LOCATION:
UID:e.3458.2937
SEQUENCE:3
DTSTAMP:20260425T113140Z
URL:https://business.bvichamber.org/events/details/bvi-chamber-annual-general-meeting-02-17-2028-2937
END:VEVENT

END:VCALENDAR
